BEGIN:VCALENDAR
VERSION:2.0
CALSCALE:GREGORIAN
BEGIN:VEVENT
DTSTART;TZID=Europe/Berlin:20240628T090000
DTEND;TZID=Europe/Berlin:20240629T000000
SUMMARY:Public lecture with ESA astronaut Dr. Alexander Gerst
DESCRIPTION:Beyond our horizons - why we explore space
END:VEVENT
END:VCALENDAR