BEGIN:VCALENDAR
VERSION:2.0
CALSCALE:GREGORIAN
BEGIN:VEVENT
DTSTART;TZID=Europe/Berlin:20240606T180000
DTEND;TZID=Europe/Berlin:20240607T000000
SUMMARY:Networking evening GründerGrillen
DESCRIPTION:For business founders &amp; those who want to become one &amp; those who already are...
END:VEVENT
END:VCALENDAR