BEGIN:VCALENDAR
VERSION:2.0
CALSCALE:GREGORIAN
BEGIN:VEVENT
DTSTART;TZID=Europe/Berlin:20221122T170000
DTEND;TZID=Europe/Berlin:20221123T000000
SUMMARY:NETZ-WERK-STATT for founders and young entrepreneurs
DESCRIPTION:The German fear of failure
END:VEVENT
END:VCALENDAR