BEGIN:VCALENDAR
VERSION:2.0
CALSCALE:GREGORIAN
BEGIN:VEVENT
DTSTART;TZID=Europe/Berlin:20220928T140000
DTEND;TZID=Europe/Berlin:20220929T000000
SUMMARY:&quot;Nature conservation\, environmental education and forestry in Upper Lusatia&quot;
DESCRIPTION:Specialist (afternoon) day in the run-up to the 23rd Saxon State Harvest Festival
END:VEVENT
END:VCALENDAR