BEGIN:VCALENDAR
VERSION:2.0
CALSCALE:GREGORIAN
BEGIN:VEVENT
DTSTART;TZID=Europe/Berlin:20220629T180000
DTEND;TZID=Europe/Berlin:20220630T000000
SUMMARY:&quot;Morgen&quot; - A student format
DESCRIPTION:Art. Music. Social Gaming.
END:VEVENT
END:VCALENDAR