BEGIN:VCALENDAR
VERSION:2.0
CALSCALE:GREGORIAN
BEGIN:VEVENT
DTSTART;TZID=Europe/Berlin:20240605T130000
DTEND;TZID=Europe/Berlin:20240606T000000
SUMMARY:Reference management with Citavi
DESCRIPTION:Online introduction at dies academicus
END:VEVENT
END:VCALENDAR