BEGIN:VCALENDAR
VERSION:2.0
CALSCALE:GREGORIAN
BEGIN:VEVENT
DTSTART;TZID=Europe/Berlin:20230928T140000
DTEND;TZID=Europe/Berlin:20230929T000000
SUMMARY:Is teaching and learning with augmented and virtual reality even possible? Opportunities and challenges for visualization\, instruction and interaction in university teaching
DESCRIPTION:In the first part of the short face-to-face workshop\, you will be introduced to good practices in which augmented and virtual reality (AR/VR) have been designed and used in university teaching. The second part offers you the opportunity to try out these technologies and explore how you can integrate them into your own teaching in a didactically meaningful way.
END:VEVENT
END:VCALENDAR