BEGIN:VCALENDAR
VERSION:2.0
CALSCALE:GREGORIAN
BEGIN:VEVENT
DTSTART;TZID=Europe/Berlin:20220929T140000
DTEND;TZID=Europe/Berlin:20220930T000000
SUMMARY:&quot;Agriculture\, forestry and fishing in Upper Lusatia&quot;
DESCRIPTION:Specialist (afternoon) day in the run-up to the 23rd Saxon State Harvest Festival
END:VEVENT
END:VCALENDAR