BEGIN:VCALENDAR
VERSION:2.0
CALSCALE:GREGORIAN
BEGIN:VEVENT
DTSTART;TZID=Europe/Berlin:20230704T140000
DTEND;TZID=Europe/Berlin:20230705T000000
SUMMARY:Laboratory didactics
DESCRIPTION:The continuing education program deals with the various didactic functions and design approaches for experiments in engineering education\, including their integration into the discovery of knowledge and identification of requirements.
END:VEVENT
END:VCALENDAR