BEGIN:VCALENDAR
VERSION:2.0
CALSCALE:GREGORIAN
BEGIN:VEVENT
DTSTART;TZID=Europe/Berlin:20241219T160000
DTEND;TZID=Europe/Berlin:20241220T000000
SUMMARY:Competence self-assessment with KODE® (online)
DESCRIPTION:Evaluation event for self-assessment of your skills profileWhich skills should I develop in order to prepare myself optimally for my dream job? Reflect on your strengths and potential!
END:VEVENT
END:VCALENDAR