BEGIN:VCALENDAR
VERSION:2.0
CALSCALE:GREGORIAN
BEGIN:VEVENT
DTSTART;TZID=Europe/Berlin:20240321T090000
DTEND;TZID=Europe/Berlin:20240322T000000
SUMMARY:Online workshop - Needs\, potential and software solutions for municipal heat planning
DESCRIPTION:As part of the event jointly organized by the Zittau/Görlitz University of Applied Sciences and SAENA GmbH (Saxon Energy Agency)\, we are bringing together representatives from local authorities\, energy suppliers\, planning offices\, software solution providers and research institutes.
END:VEVENT
END:VCALENDAR