BEGIN:VCALENDAR
VERSION:2.0
CALSCALE:GREGORIAN
BEGIN:VEVENT
DTSTART;TZID=Europe/Berlin:20241002T100000
DTEND;TZID=Europe/Berlin:20241003T000000
SUMMARY:Childhood education\: Course-specific introduction
DESCRIPTION:
END:VEVENT
END:VCALENDAR