BEGIN:VCALENDAR
VERSION:2.0
CALSCALE:GREGORIAN
BEGIN:VEVENT
DTSTART;TZID=Europe/Berlin:20220603T100000
DTEND;TZID=Europe/Berlin:20220604T000000
SUMMARY:Kinder Academy\: What does Konrad Zuse&#039;s invention have to do with computer games?
DESCRIPTION:
END:VEVENT
END:VCALENDAR