BEGIN:VCALENDAR
VERSION:2.0
CALSCALE:GREGORIAN
BEGIN:VEVENT
DTSTART;TZID=Europe/Berlin:20220701T100000
DTEND;TZID=Europe/Berlin:20220702T000000
SUMMARY:Kinder Academy\: Attention\, high voltage!
DESCRIPTION:Kinder Academy Zittau - morning event for Zittau elementary school
END:VEVENT
END:VCALENDAR