BEGIN:VCALENDAR
VERSION:2.0
CALSCALE:GREGORIAN
BEGIN:VEVENT
DTSTART;TZID=Europe/Berlin:20231117T100000
DTEND;TZID=Europe/Berlin:20231118T000000
SUMMARY:AI and language modeling in industrial project management - current status and future trends
DESCRIPTION:This lecture\, which is open to the public at the university\, is a concretization of the topic &quot;AI and language modelling in industrial project management - current status and future trends&quot;. The focal point of the approach is the &quot;explainability&quot; of artificial intelligence systems. This is paired with the core element of &quot;appreciating the task&quot; and systematically builds on the presentation &quot;How can we master the digital transformation?&quot; from November 3.
END:VEVENT
END:VCALENDAR