BEGIN:VCALENDAR
VERSION:2.0
CALSCALE:GREGORIAN
BEGIN:VEVENT
DTSTART;TZID=Europe/Berlin:20250208T100000
DTEND;TZID=Europe/Berlin:20250209T000000
SUMMARY:Career fair\: Stuzubi Leipzig
DESCRIPTION:
END:VEVENT
END:VCALENDAR