BEGIN:VCALENDAR
VERSION:2.0
CALSCALE:GREGORIAN
BEGIN:VEVENT
DTSTART;TZID=Europe/Berlin:20221118T090000
DTEND;TZID=Europe/Berlin:20221120T000000
SUMMARY:Career fair EINSTIEG | Berlin
DESCRIPTION:
END:VEVENT
END:VCALENDAR