BEGIN:VCALENDAR
VERSION:2.0
CALSCALE:GREGORIAN
BEGIN:VEVENT
DTSTART;TZID=Europe/Berlin:20220813T150000
DTEND;TZID=Europe/Berlin:20220822T000000
SUMMARY:Kaleidoscope of spaces. 3D sound installation
DESCRIPTION:Coming and going - The Sechs-Städtebundfestival presents orchestronics in 3D audio\: a unique listening experience on the Zittau campus.
END:VEVENT
END:VCALENDAR