BEGIN:VCALENDAR
VERSION:2.0
CALSCALE:GREGORIAN
BEGIN:VEVENT
DTSTART;TZID=Europe/Berlin:20240517T090000
DTEND;TZID=Europe/Berlin:20240518T000000
SUMMARY:Intercultural competence in university teaching - an introduction for lecturers
DESCRIPTION:
END:VEVENT
END:VCALENDAR