BEGIN:VCALENDAR
VERSION:2.0
CALSCALE:GREGORIAN
BEGIN:VEVENT
DTSTART;TZID=Europe/Berlin:20241112T090000
DTEND;TZID=Europe/Berlin:20241115T000000
SUMMARY:Workshop\: Testing the LISA system
DESCRIPTION:In cooperation with the GAT Institute of the HSZG\, taster days will be held from November 12 to 14 for those interested in a &quot;co-aging apartment&quot;.
END:VEVENT
END:VCALENDAR