BEGIN:VCALENDAR
VERSION:2.0
CALSCALE:GREGORIAN
BEGIN:VEVENT
DTSTART;TZID=Europe/Berlin:20241112T093200
DTEND;TZID=Europe/Berlin:20241115T000000
SUMMARY:Living independently in old age thanks to modern technology
DESCRIPTION:In cooperation with the GAT Institute of the HSZG\, taster days will be held from August 20 to 22 for those interested in a &quot;co-ageing apartment&quot;.
END:VEVENT
END:VCALENDAR