BEGIN:VCALENDAR
VERSION:2.0
CALSCALE:GREGORIAN
BEGIN:VEVENT
DTSTART;TZID=Europe/Berlin:20230504T170000
DTEND;TZID=Europe/Berlin:20230505T000000
SUMMARY:IHK Dresden\: Workshop discussion
DESCRIPTION:Innovative and sustainable materials - plastic substitutes rethought!
END:VEVENT
END:VCALENDAR