BEGIN:VCALENDAR
VERSION:2.0
CALSCALE:GREGORIAN
BEGIN:VEVENT
DTSTART;TZID=Europe/Berlin:20220601T133000
DTEND;TZID=Europe/Berlin:20220603T000000
SUMMARY:University sports festival
DESCRIPTION:
END:VEVENT
END:VCALENDAR