BEGIN:VCALENDAR
VERSION:2.0
CALSCALE:GREGORIAN
BEGIN:VEVENT
DTSTART;TZID=Europe/Berlin:20230607T130000
DTEND;TZID=Europe/Berlin:20230608T000000
SUMMARY:University Sports Festival 2023
DESCRIPTION:This year we&#039;re also bringing the FSR N on board and the DeZi-bar will also be providing DJs and a beer trolley for you.
END:VEVENT
END:VCALENDAR