BEGIN:VCALENDAR
VERSION:2.0
CALSCALE:GREGORIAN
BEGIN:VEVENT
DTSTART;TZID=Europe/Berlin:20240605T130000
DTEND;TZID=Europe/Berlin:20240606T000000
SUMMARY:University sports festival
DESCRIPTION:Sport\, fun and partying on our Zittau campus. In addition to the traditional tournaments\, there will also be plenty of side events.
END:VEVENT
END:VCALENDAR