BEGIN:VCALENDAR
VERSION:2.0
CALSCALE:GREGORIAN
BEGIN:VEVENT
DTSTART;TZID=Europe/Berlin:20240315T130000
DTEND;TZID=Europe/Berlin:20240316T000000
SUMMARY:University fair at BIZ Bautzen
DESCRIPTION:
END:VEVENT
END:VCALENDAR