BEGIN:VCALENDAR
VERSION:2.0
CALSCALE:GREGORIAN
BEGIN:VEVENT
DTSTART;TZID=Europe/Berlin:20240325T150000
DTEND;TZID=Europe/Berlin:20240326T000000
SUMMARY:L&amp;T CONNECTS - High performance meets high temperature
DESCRIPTION:Inauguration of a unique heat storage test facility in the Zittau power plant laboratory
END:VEVENT
END:VCALENDAR