BEGIN:VCALENDAR
VERSION:2.0
CALSCALE:GREGORIAN
BEGIN:VEVENT
DTSTART;TZID=Europe/Berlin:20240412T090000
DTEND;TZID=Europe/Berlin:20240415T000000
SUMMARY:Hackathon for care and health
DESCRIPTION:Be part of the change! - Shape the future of the care and healthcare industry with us.
END:VEVENT
END:VCALENDAR