BEGIN:VCALENDAR
VERSION:2.0
CALSCALE:GREGORIAN
BEGIN:VEVENT
DTSTART;TZID=Europe/Berlin:20240404T160000
DTEND;TZID=Europe/Berlin:20240405T000000
SUMMARY:Foundation course - The foundation process (online)
DESCRIPTION:This event will show you how to turn an idea into a successful business concept.
END:VEVENT
END:VCALENDAR