BEGIN:VCALENDAR
VERSION:2.0
CALSCALE:GREGORIAN
BEGIN:VEVENT
DTSTART;TZID=Europe/Berlin:20240920T160000
DTEND;TZID=Europe/Berlin:20240921T000000
SUMMARY:Görlitz Kinder Academy\: Searching for clues on the Neisse - Where does the riverbank wolf spider live?
DESCRIPTION:
END:VEVENT
END:VCALENDAR