BEGIN:VCALENDAR
VERSION:2.0
CALSCALE:GREGORIAN
BEGIN:VEVENT
DTSTART;TZID=Europe/Berlin:20241108T160000
DTEND;TZID=Europe/Berlin:20241109T000000
SUMMARY:Görlitz Kinder Academy\: Lynx - who are you?
DESCRIPTION:About the return of the lynx to Saxony
END:VEVENT
END:VCALENDAR