BEGIN:VCALENDAR
VERSION:2.0
CALSCALE:GREGORIAN
BEGIN:VEVENT
DTSTART;TZID=Europe/Berlin:20240301T160000
DTEND;TZID=Europe/Berlin:20240303T000000
SUMMARY:Görlitz Kinder Academy\: Flying goblins of the night - on the trail of bat researchers
DESCRIPTION:Flying goblins of the night - bat researchers on the trail. Dipl.-Biol. Christiane Schmidt\, Niesky
END:VEVENT
END:VCALENDAR