BEGIN:VCALENDAR
VERSION:2.0
CALSCALE:GREGORIAN
BEGIN:VEVENT
DTSTART;TZID=Europe/Berlin:20230427T090000
DTEND;TZID=Europe/Berlin:20230428T000000
SUMMARY:Girls&#039; Day at the HSZG from Year 5 onwards
DESCRIPTION:At the nationwide Girls&#039; Day on April 27\, 2023\, schoolgirls can get a taste of professions that are atypical for girls. Our program for your future day will inspire you\: Come by and experience how new technologies contribute to nature and environmental protection. See how current energy issues are being addressed and solved by our scientists and students.
END:VEVENT
END:VCALENDAR