BEGIN:VCALENDAR
VERSION:2.0
CALSCALE:GREGORIAN
BEGIN:VEVENT
DTSTART;TZID=Europe/Berlin:20240321T161500
DTEND;TZID=Europe/Berlin:20240322T000000
SUMMARY:Social crisis(es) as carelessness! - Lecture series &quot;Navigating in uncertain times&quot;
DESCRIPTION:Lecture series &quot;Navigating in uncertain times - social crises and their shaping&quot; of the Master Management of social change and Master Social Gerontology in cooperation with the TRAWOS Institute
END:VEVENT
END:VCALENDAR