BEGIN:VCALENDAR
VERSION:2.0
CALSCALE:GREGORIAN
BEGIN:VEVENT
DTSTART;TZID=Europe/Berlin:20220706T131500
DTEND;TZID=Europe/Berlin:20220710T000000
SUMMARY:Implementing gender equality and living diversity
DESCRIPTION:Meeting of the Working Group for Gender Equality\, Inclusion\, Women&#039;s and Diversity Studies (AGIFD)
END:VEVENT
END:VCALENDAR