BEGIN:VCALENDAR
VERSION:2.0
CALSCALE:GREGORIAN
BEGIN:VEVENT
DTSTART;TZID=Europe/Berlin:20230515T160000
DTEND;TZID=Europe/Berlin:20230516T000000
SUMMARY:&quot;Generational change&quot; - Meeting point economy Weißwasser
DESCRIPTION:Opportunities\, planning\, &amp; Process for companies and successors
END:VEVENT
END:VCALENDAR