BEGIN:VCALENDAR
VERSION:2.0
CALSCALE:GREGORIAN
BEGIN:VEVENT
DTSTART;TZID=Europe/Berlin:20241217T183000
DTEND;TZID=Europe/Berlin:20241218T000000
SUMMARY:Counter-reading\: Görlitz Conversations on Literature
DESCRIPTION:Lukas Rietzschel and Raj Kollmorgen talk about books that are worth reading.
END:VEVENT
END:VCALENDAR