BEGIN:VCALENDAR
VERSION:2.0
CALSCALE:GREGORIAN
BEGIN:VEVENT
DTSTART;TZID=Europe/Berlin:20240321T130000
DTEND;TZID=Europe/Berlin:20240323T000000
SUMMARY:Research workshop for academic continuing education
DESCRIPTION:11th Research Workshop on Scientific Continuing Education &quot;Scientific Continuing Education and Structural Change&quot;
END:VEVENT
END:VCALENDAR