BEGIN:VCALENDAR
VERSION:2.0
CALSCALE:GREGORIAN
BEGIN:VEVENT
DTSTART;TZID=Europe/Berlin:20231117T140000
DTEND;TZID=Europe/Berlin:20231118T000000
SUMMARY:Promoting the acquisition of skills through business games
DESCRIPTION:According to the Swiss Austrian German Simulation and Gaming Association (SAGSAGA)\, simulation games offer practical learning experiences with realistic complexity as well as scope for decision-making and action to actively promote the acquisition of skills.
END:VEVENT
END:VCALENDAR