BEGIN:VCALENDAR
VERSION:2.0
CALSCALE:GREGORIAN
BEGIN:VEVENT
DTSTART;TZID=Europe/Berlin:20231007T122800
DTEND;TZID=Europe/Berlin:20231008T000000
SUMMARY:Ceremonial disenrolment (from university)
DESCRIPTION:
END:VEVENT
END:VCALENDAR