BEGIN:VCALENDAR
VERSION:2.0
CALSCALE:GREGORIAN
BEGIN:VEVENT
DTSTART;TZID=Europe/Berlin:20240610T080000
DTEND;TZID=Europe/Berlin:20240611T000000
SUMMARY:An early shift for my Görlitz. Helping to shape Saxony as a land of science
DESCRIPTION:Young people between 13 and 27 work an early shift for the science location Görlitz.
END:VEVENT
END:VCALENDAR