BEGIN:VCALENDAR
VERSION:2.0
CALSCALE:GREGORIAN
BEGIN:VEVENT
DTSTART;TZID=Europe/Berlin:20241113T093000
DTEND;TZID=Europe/Berlin:20241114T000000
SUMMARY:Digital Workspace (for teachers)\: Using and promoting the potential of digital skills in teaching
DESCRIPTION:What will the teaching of tomorrow look like? Digital skills and especially the use of AI are becoming indispensable. The workspace provides an insight into the topic\, helps with the targeted selection of tools and shows possibilities for transfer.
END:VEVENT
END:VCALENDAR