BEGIN:VCALENDAR
VERSION:2.0
CALSCALE:GREGORIAN
BEGIN:VEVENT
DTSTART;TZID=Europe/Berlin:20241007T093000
DTEND;TZID=Europe/Berlin:20241022T000000
SUMMARY:(Self-learning) Digital Workspace (for teachers)\: Designing and integrating e-assessments\: Tips and tools for teachers
DESCRIPTION:E-assessments are used to assess the level of knowledge of learners and enable teachers to select learning content accordingly\, define focal points\, plan learning opportunities\, select methods and form learning groups. The workspace provides an insight into the topic\, helps with the targeted selection of tools and shows possibilities for transfer.
END:VEVENT
END:VCALENDAR