BEGIN:VCALENDAR
VERSION:2.0
CALSCALE:GREGORIAN
BEGIN:VEVENT
DTSTART;TZID=Europe/Berlin:20240613T093000
DTEND;TZID=Europe/Berlin:20240614T000000
SUMMARY:Digital Workspace (for teachers)\: E-assessment - self-tests to promote learning (Part 2)
DESCRIPTION:Designing e-assessments in a didactically targeted manner and implementing them technically is often a challenge for teachers. In the workspace\, participants receive tips on practical implementation\, a variety of practice-oriented impulses and space to try things out.
END:VEVENT
END:VCALENDAR