BEGIN:VCALENDAR
VERSION:2.0
CALSCALE:GREGORIAN
BEGIN:VEVENT
DTSTART;TZID=Europe/Berlin:20240925T120000
DTEND;TZID=Europe/Berlin:20240926T000000
SUMMARY:Digital Learning Expo
DESCRIPTION:Digital Learning Expo\: Sharing innovations. Find cooperationsMeet like-minded people and new partners at the final event of the &quot;Digitalization of Higher Education in Saxony&quot; project. Discover innovative concepts\, technologies and current application scenarios in the context of digitally enriched university teaching and get in touch with various stakeholders.
END:VEVENT
END:VCALENDAR