BEGIN:VCALENDAR
VERSION:2.0
CALSCALE:GREGORIAN
BEGIN:VEVENT
DTSTART;TZID=Europe/Berlin:20230513T100000
DTEND;TZID=Europe/Berlin:20230515T000000
SUMMARY:HSZG presents its wide range of products at KONVENT&#039;A in Löbau
DESCRIPTION:University sports to join in\: Discover the wide range of activities offered by the HSZG
END:VEVENT
END:VCALENDAR