BEGIN:VCALENDAR
VERSION:2.0
CALSCALE:GREGORIAN
BEGIN:VEVENT
DTSTART;TZID=Europe/Berlin:20240206T180000
DTEND;TZID=Europe/Berlin:20240207T000000
SUMMARY:&quot;The dimensions of nursing as a science&quot; - lecture series
DESCRIPTION:Topic\: What makes a good mood - Activating care
END:VEVENT
END:VCALENDAR