BEGIN:VCALENDAR
VERSION:2.0
CALSCALE:GREGORIAN
BEGIN:VEVENT
DTSTART;TZID=Europe/Berlin:20240416T180000
DTEND;TZID=Europe/Berlin:20240417T000000
SUMMARY:&quot;The dimensions of nursing as a science&quot; - lecture series
DESCRIPTION:Topic\: Hospital economics and the effects of the Lauterbach reform
END:VEVENT
END:VCALENDAR