BEGIN:VCALENDAR
VERSION:2.0
CALSCALE:GREGORIAN
BEGIN:VEVENT
DTSTART;TZID=Europe/Berlin:20250114T180000
DTEND;TZID=Europe/Berlin:20250115T000000
SUMMARY:The dimensions of care as science\: assistant technologies in the home
DESCRIPTION:public-hybrid lecture series
END:VEVENT
END:VCALENDAR