BEGIN:VCALENDAR
VERSION:2.0
CALSCALE:GREGORIAN
BEGIN:VEVENT
DTSTART;TZID=Europe/Berlin:20230614T161500
DTEND;TZID=Europe/Berlin:20230615T000000
SUMMARY:SeniorenKolleg Zittau\: Migration and cultural sensitivity\: everyday racism and the difficulty of not being affected
DESCRIPTION:Migration and cultural sensitivity\: everyday racism and the difficulty of not being affected. Monique Ritter\, M.A.\, Dr. des.\, Project &quot;Gender/Diversity Research&quot;\, TRAWOS Institute\, HSZG. Peter-Dierich-Haus\, lecture hall ZIV/0.02
END:VEVENT
END:VCALENDAR